BEGIN:VCALENDAR
VERSION:2.0
PRODID:-//My Calendar//http://www.joedolson.com//v3.1.18//EN
METHOD:PUBLISH
CALSCALE:GREGORIAN
X-WR-CALNAME:Üdvözöljük az Ózdi Városi Könyvtár honlapján! 
X-PUBLISHED-TTL:PT24H
REFRESH-INTERVAL;VALUE=DURATION:PT24H
X-WR-CALDESC:Events from Üdvözöljük az Ózdi Városi Könyvtár honlapján! 
BEGIN:VEVENT
UID:268-271
LOCATION:
SUMMARY:Derenkó Dániel könyvbemutató
DTSTAMP:20260128T163000
ORGANIZER;CN=BET:MAILTO:bolykie.timea@gmail.com
DTSTART;TZID=Etc/GMT+0:20260128T163000
DTEND;TZID=Etc/GMT+0:20260128T173000
URL;VALUE=URI:http://vkozd.hosting.ininet.hu/my-calendar/
DESCRIPTION: 
CATEGORIES:General
END:VEVENT
BEGIN:VEVENT
UID:266-269
LOCATION:
SUMMARY:WASS ALBERT FELOLVASÓ-EST
DTSTAMP:20250222T150000
ORGANIZER;CN=BET:MAILTO:bolykie.timea@gmail.com
DTSTART;TZID=Etc/GMT+0:20250222T150000
DTEND;TZID=Etc/GMT+0:20250222T190000
URL;VALUE=URI:http://vkozd.hosting.ininet.hu/my-calendar/
DESCRIPTION: 
CATEGORIES:General
END:VEVENT
BEGIN:VEVENT
UID:265-268
LOCATION:
SUMMARY:TÁRSASJÁTÉK KLUB
DTSTAMP:20250215T140000
ORGANIZER;CN=BET:MAILTO:bolykie.timea@gmail.com
DTSTART;TZID=Etc/GMT+0:20250215T140000
DTEND;TZID=Etc/GMT+0:20250215T190000
URL;VALUE=URI:http://vkozd.hosting.ininet.hu/my-calendar/
DESCRIPTION: 
CATEGORIES:General
END:VEVENT
BEGIN:VEVENT
UID:264-267
LOCATION:
SUMMARY:ANIME KLUB
DTSTAMP:20250215T090000
ORGANIZER;CN=BET:MAILTO:bolykie.timea@gmail.com
DTSTART;TZID=Etc/GMT+0:20250215T090000
DTEND;TZID=Etc/GMT+0:20250215T120000
URL;VALUE=URI:http://vkozd.hosting.ininet.hu/my-calendar/
DESCRIPTION: 
CATEGORIES:General
END:VEVENT
BEGIN:VEVENT
UID:263-266
LOCATION:
SUMMARY:KÖNYVBEMUTATÓ -  OROSZ MARGIT: HEGYEK HAJLATÁN
DTSTAMP:20240508T163000
ORGANIZER;CN=BET:MAILTO:bolykie.timea@gmail.com
DTSTART;TZID=Etc/GMT+0:20240508T163000
DTEND;TZID=Etc/GMT+0:20240508T173000
URL;VALUE=URI:http://vkozd.hosting.ininet.hu/my-calendar/
DESCRIPTION: 
CATEGORIES:General
END:VEVENT
BEGIN:VEVENT
UID:262-265
LOCATION:
SUMMARY:Gyereknapi délután a könyvtárban
DTSTAMP:20240511T140000
ORGANIZER;CN=BET:MAILTO:bolykie.timea@gmail.com
DTSTART;TZID=Etc/GMT+0:20240511T140000
DTEND;TZID=Etc/GMT+0:20240511T190000
URL;VALUE=URI:http://vkozd.hosting.ininet.hu/my-calendar/
DESCRIPTION: 
CATEGORIES:General
END:VEVENT
BEGIN:VEVENT
UID:261-264
LOCATION:
SUMMARY:P. Dányi Gabriella könyvbemutató és kiállítás
DTSTAMP:20240207T163000
ORGANIZER;CN=BET:MAILTO:bolykie.timea@gmail.com
DTSTART;TZID=Etc/GMT+0:20240207T163000
DTEND;TZID=Etc/GMT+0:20240207T173000
URL;VALUE=URI:http://vkozd.hosting.ininet.hu/my-calendar/
DESCRIPTION: 
CATEGORIES:General
END:VEVENT
BEGIN:VEVENT
UID:260-263
LOCATION:
SUMMARY:Arcfestés
DTSTAMP:20240203T150000
ORGANIZER;CN=BET:MAILTO:bolykie.timea@gmail.com
DTSTART;TZID=Etc/GMT+0:20240203T150000
DTEND;TZID=Etc/GMT+0:20240203T170000
URL;VALUE=URI:http://vkozd.hosting.ininet.hu/my-calendar/
DESCRIPTION: 
CATEGORIES:General
END:VEVENT
BEGIN:VEVENT
UID:259-262
LOCATION:
SUMMARY:Játszóház, Mese- és babasarok  Kézműves foglalkozás, diafilmvetítés
DTSTAMP:20240203T140000
ORGANIZER;CN=BET:MAILTO:bolykie.timea@gmail.com
DTSTART;TZID=Etc/GMT+0:20240203T140000
DTEND;TZID=Etc/GMT+0:20240203T190000
URL;VALUE=URI:http://vkozd.hosting.ininet.hu/my-calendar/
DESCRIPTION: 
CATEGORIES:General
END:VEVENT
BEGIN:VEVENT
UID:258-261
LOCATION:
SUMMARY:Családi játszódélután
DTSTAMP:20240203T140000
ORGANIZER;CN=BET:MAILTO:bolykie.timea@gmail.com
DTSTART;TZID=Etc/GMT+0:20240203T140000
DTEND;TZID=Etc/GMT+0:20240203T190000
URL;VALUE=URI:http://vkozd.hosting.ininet.hu/my-calendar/
DESCRIPTION: 
CATEGORIES:General
END:VEVENT
BEGIN:VEVENT
UID:257-260
LOCATION:
SUMMARY:Ovis néptánc
DTSTAMP:20240203T164500
ORGANIZER;CN=BET:MAILTO:bolykie.timea@gmail.com
DTSTART;TZID=Etc/GMT+0:20240203T164500
DTEND;TZID=Etc/GMT+0:20240203T174500
URL;VALUE=URI:http://vkozd.hosting.ininet.hu/my-calendar/
DESCRIPTION: 
CATEGORIES:General
END:VEVENT
BEGIN:VEVENT
UID:256-259
LOCATION:
SUMMARY:Babusgató a legkisebbeknek -   Mondókás, ölbéli játékos foglalkozás.
DTSTAMP:20240203T160000
ORGANIZER;CN=BET:MAILTO:bolykie.timea@gmail.com
DTSTART;TZID=Etc/GMT+0:20240203T160000
DTEND;TZID=Etc/GMT+0:20240203T170000
URL;VALUE=URI:http://vkozd.hosting.ininet.hu/my-calendar/
DESCRIPTION: 
CATEGORIES:General
END:VEVENT
BEGIN:VEVENT
UID:255-258
LOCATION:
SUMMARY:WASS ALBERT FELOLVASÓ-EST - ÁRPÁD VEZÉR ÚTI FIÓKKÖNYVTÁR
DTSTAMP:20240223T160000
ORGANIZER;CN=BET:MAILTO:bolykie.timea@gmail.com
DTSTART;TZID=Etc/GMT+0:20240223T160000
DTEND;TZID=Etc/GMT+0:20240223T190000
URL;VALUE=URI:http://vkozd.hosting.ininet.hu/my-calendar/
DESCRIPTION: 
CATEGORIES:General
END:VEVENT
BEGIN:VEVENT
UID:254-257
LOCATION:
SUMMARY:Szeretet Gyermekei Alapítvány  Ózdi Szép Szó Irodalmi Kör újságjának bemutatója
DTSTAMP:20231123T163000
ORGANIZER;CN=BET:MAILTO:bolykie.timea@gmail.com
DTSTART;TZID=Etc/GMT+0:20231123T163000
DTEND;TZID=Etc/GMT+0:20231123T180000
URL;VALUE=URI:http://vkozd.hosting.ininet.hu/my-calendar/
DESCRIPTION: 
CATEGORIES:General
END:VEVENT
BEGIN:VEVENT
UID:251-254
LOCATION:
SUMMARY:Plazmatikum Ózd előadásai
DTSTAMP:20231116T163000
ORGANIZER;CN=BET:MAILTO:bolykie.timea@gmail.com
DTSTART;TZID=Etc/GMT+0:20231116T163000
DTEND;TZID=Etc/GMT+0:20231116T180000
URL;VALUE=URI:http://vkozd.hosting.ininet.hu/my-calendar/
DESCRIPTION: 
CATEGORIES:General
END:VEVENT
BEGIN:VEVENT
UID:249-252
LOCATION:
SUMMARY:Telegdi Ágnes kiállítás megnyitó (Árpád Vezér Úti Fiókkönyvtár)
DTSTAMP:20231004T090000
ORGANIZER;CN=BET:MAILTO:bolykie.timea@gmail.com
DTSTART;TZID=Etc/GMT+0:20231004T090000
DTEND;TZID=Etc/GMT+0:20231004T100000
URL;VALUE=URI:http://vkozd.hosting.ininet.hu/my-calendar/
DESCRIPTION: 
CATEGORIES:General
END:VEVENT
BEGIN:VEVENT
UID:246-249
LOCATION:
SUMMARY:Író- olvasó találkozó Bauer Barbarával
DTSTAMP:20231003T163000
ORGANIZER;CN=BET:MAILTO:bolykie.timea@gmail.com
DTSTART;TZID=Etc/GMT+0:20231003T163000
DTEND;TZID=Etc/GMT+0:20231003T173000
URL;VALUE=URI:http://vkozd.hosting.ininet.hu/my-calendar/
DESCRIPTION: 
CATEGORIES:General
END:VEVENT
BEGIN:VEVENT
UID:243-246
LOCATION:
SUMMARY:"Fagyöngy" Irodalombarát Klub foglalkozás
DTSTAMP:20231003T140000
ORGANIZER;CN=BET:MAILTO:bolykie.timea@gmail.com
DTSTART;TZID=Etc/GMT+0:20231003T140000
DTEND;TZID=Etc/GMT+0:20231003T150000
URL;VALUE=URI:http://vkozd.hosting.ininet.hu/my-calendar/
DESCRIPTION: 
CATEGORIES:General
END:VEVENT
BEGIN:VEVENT
UID:240-243
LOCATION:
SUMMARY:Kötőklub
DTSTAMP:20231002T150000
ORGANIZER;CN=BET:MAILTO:bolykie.timea@gmail.com
DTSTART;TZID=Etc/GMT+0:20231002T150000
DTEND;TZID=Etc/GMT+0:20231002T160000
URL;VALUE=URI:http://vkozd.hosting.ininet.hu/my-calendar/
DESCRIPTION: 
CATEGORIES:General
END:VEVENT
BEGIN:VEVENT
UID:237-240
LOCATION:
SUMMARY:Magyar Múzsa - bemutatása
DTSTAMP:20230921T163000
ORGANIZER;CN=BET:MAILTO:bolykie.timea@gmail.com
DTSTART;TZID=Etc/GMT+0:20230921T163000
DTEND;TZID=Etc/GMT+0:20230921T173000
URL;VALUE=URI:http://vkozd.hosting.ininet.hu/my-calendar/
DESCRIPTION: 
CATEGORIES:General
END:VEVENT
BEGIN:VEVENT
UID:234-237
LOCATION:
SUMMARY:Családi kaland az ezerszínű Mauritiuson -  Vetített képes élménybeszámoló
DTSTAMP:20231006T163000
ORGANIZER;CN=BET:MAILTO:bolykie.timea@gmail.com
DTSTART;TZID=Etc/GMT+0:20231006T163000
DTEND;TZID=Etc/GMT+0:20231006T173000
URL;VALUE=URI:http://vkozd.hosting.ininet.hu/my-calendar/
DESCRIPTION: 
CATEGORIES:General
END:VEVENT
BEGIN:VEVENT
UID:231-234
LOCATION:
SUMMARY:Vetítés - ELFOGYNI AZ ÖLELÉSBEN – ADY ENDRE SZERELMEI (Árpád Vezér Úti Fiókkönyvtár)
DTSTAMP:20230928T160000
ORGANIZER;CN=BET:MAILTO:bolykie.timea@gmail.com
DTSTART;TZID=Etc/GMT+0:20230928T160000
DTEND;TZID=Etc/GMT+0:20230928T170000
URL;VALUE=URI:http://vkozd.hosting.ininet.hu/my-calendar/
DESCRIPTION: 
CATEGORIES:General
END:VEVENT
BEGIN:VEVENT
UID:228-231
LOCATION:
SUMMARY:Könyvbemutató - Kovács Béla - Szentsimon temploma
DTSTAMP:20230511T163000
ORGANIZER;CN=BET:MAILTO:bolykie.timea@gmail.com
DTSTART;TZID=Etc/GMT+0:20230511T163000
DTEND;TZID=Etc/GMT+0:20230511T173000
URL;VALUE=URI:http://vkozd.hosting.ininet.hu/my-calendar/
DESCRIPTION: 
CATEGORIES:General
END:VEVENT
BEGIN:VEVENT
UID:225-228
LOCATION:
SUMMARY:Vetített képes élménybeszámoló - dr. Biczó Andrea: Családi kaland a vad Mexikóban
DTSTAMP:20230524T163000
ORGANIZER;CN=BET:MAILTO:bolykie.timea@gmail.com
DTSTART;TZID=Etc/GMT+0:20230524T163000
DTEND;TZID=Etc/GMT+0:20230524T173000
URL;VALUE=URI:http://vkozd.hosting.ininet.hu/my-calendar/
DESCRIPTION: 
CATEGORIES:General
END:VEVENT
BEGIN:VEVENT
UID:222-225
LOCATION:
SUMMARY:Rubecz Erzsébet Tamara  festőművész èletmű kiàllítàsa
DTSTAMP:20230518T163000
ORGANIZER;CN=BET:MAILTO:bolykie.timea@gmail.com
DTSTART;TZID=Etc/GMT+0:20230518T163000
DTEND;TZID=Etc/GMT+0:20230518T173000
URL;VALUE=URI:http://vkozd.hosting.ininet.hu/my-calendar/
DESCRIPTION: 
CATEGORIES:General
END:VEVENT
BEGIN:VEVENT
UID:219-222
LOCATION:
SUMMARY:Szeretet Gyermekei Alapítvány  Ózdi Szép Szó Irodalmi Kör újságjának bemutatója
DTSTAMP:20230413T160000
ORGANIZER;CN=BET:MAILTO:bolykie.timea@gmail.com
DTSTART;TZID=Etc/GMT+0:20230413T160000
DTEND;TZID=Etc/GMT+0:20230413T170000
URL;VALUE=URI:http://vkozd.hosting.ininet.hu/my-calendar/
DESCRIPTION: 
CATEGORIES:General
END:VEVENT
BEGIN:VEVENT
UID:216-219
LOCATION:
SUMMARY:APRÓ ÖRÖMÖK CSALÁDI KLUB: Csibebuli
DTSTAMP:20230401T090000
ORGANIZER;CN=BET:MAILTO:bolykie.timea@gmail.com
DTSTART;TZID=Etc/GMT+0:20230401T090000
DTEND;TZID=Etc/GMT+0:20230401T120000
URL;VALUE=URI:http://vkozd.hosting.ininet.hu/my-calendar/
DESCRIPTION: 
CATEGORIES:General
END:VEVENT
BEGIN:VEVENT
UID:213-216
LOCATION:
SUMMARY:HÚSVÉTI JÁTSZÓHÁZ
DTSTAMP:20230406T130000
ORGANIZER;CN=BET:MAILTO:bolykie.timea@gmail.com
DTSTART;TZID=Etc/GMT+0:20230406T130000
DTEND;TZID=Etc/GMT+0:20230406T160000
URL;VALUE=URI:http://vkozd.hosting.ininet.hu/my-calendar/
DESCRIPTION: 
CATEGORIES:General
END:VEVENT
BEGIN:VEVENT
UID:210-213
LOCATION:
SUMMARY:EZTOLVASDEL-könyvajánló minden korosztálynak
DTSTAMP:20230330T100000
ORGANIZER;CN=BET:MAILTO:bolykie.timea@gmail.com
DTSTART;TZID=Etc/GMT+0:20230330T100000
DTEND;TZID=Etc/GMT+0:20230330T110000
URL;VALUE=URI:http://vkozd.hosting.ininet.hu/my-calendar/
DESCRIPTION: 
CATEGORIES:General
END:VEVENT
BEGIN:VEVENT
UID:207-210
LOCATION:
SUMMARY:OkosEügy -  “FAGYÖNGY” Könyvbarátok Klub
DTSTAMP:20230329T140000
ORGANIZER;CN=BET:MAILTO:bolykie.timea@gmail.com
DTSTART;TZID=Etc/GMT+0:20230329T140000
DTEND;TZID=Etc/GMT+0:20230329T150000
URL;VALUE=URI:http://vkozd.hosting.ininet.hu/my-calendar/
DESCRIPTION: 
CATEGORIES:General
END:VEVENT
END:VCALENDAR